BEGIN:VCALENDAR
VERSION:2.0
PRODID:icalendar-ruby
CALSCALE:GREGORIAN
METHOD:PUBLISH
BEGIN:VEVENT
DTSTAMP:20260426T031521Z
UID:57-514545@stgeorgebanff.com
DTSTART:20260824T230000Z
DTEND:20260825T010000Z
CLASS:PUBLIC
CREATED:20260425T184905
DESCRIPTION:Join us for a community meal each Monday!\nFollow us on Instagr
 am for the weekly menu and updates.\nDonations welcome but not necessary.
LAST-MODIFIED:20260425T184905
LOCATION:St George Church Hall - 400 Buffalo Street
SUMMARY:Banff Food & Friends
URL;VALUE=URI:https://www.stgeorgebanff.com/events/banff-food-friends/2026-
 08-24
ATTACH;FILENAME=bff 2025.jpg;FMTTYPE=image/jpeg:https://dq5pwpg1q8ru0.cloud
 front.net/2025/08/06/15/13/21/7d1abbb1-8b2a-4f1a-8fe0-17eb1f963e88/bff%202
 025.jpg
END:VEVENT
END:VCALENDAR
