BEGIN:VCALENDAR
VERSION:2.0
PRODID:icalendar-ruby
CALSCALE:GREGORIAN
METHOD:PUBLISH
BEGIN:VEVENT
DTSTAMP:20260425T190239Z
UID:125-513541@stgeorgebanff.com
DTSTART:20260725T020000Z
DTEND:20260725T033000Z
CLASS:PUBLIC
CREATED:20260425T104320
DESCRIPTION:Banff Snowboarding Friends\nFridays from 8pm to 9:30pm\nThe Upp
 er Room at St George in the Pines\n100 Beaver Street (click for directions
 )\nA weekly gathering for snowboarders of all ages and skill levels. Come 
 meet others who love the mountain\, share stories and tips\, enjoy some sn
 acks\, and find community in the Bow Valley. Hosted by Ray\, a certified i
 nstructor who is passionate about helping people grow both on and off the 
 slopes.\nFree drop in. Everyone is welcome.
LAST-MODIFIED:20260425T104320
LOCATION:The Upper Room
SUMMARY:Banff Snowboarding Friends
URL;VALUE=URI:https://www.stgeorgebanff.com/events/banff-snowboarding-frien
 ds/2026-07-24
ATTACH;FILENAME=BSF2025.jpg;FMTTYPE=image/jpeg:https://dq5pwpg1q8ru0.cloudf
 ront.net/2025/11/18/16/53/00/79f5df41-f7cc-4c21-b086-a996da904326/BSF2025.
 jpg
END:VEVENT
END:VCALENDAR
