BEGIN:VCALENDAR
VERSION:2.0
PRODID:icalendar-ruby
CALSCALE:GREGORIAN
METHOD:PUBLISH
BEGIN:VEVENT
DTSTAMP:20260421T023707Z
UID:122-502313@stgeorgebanff.com
DTSTART:20260816T160000Z
DTEND:20260816T170000Z
CLASS:PUBLIC
CREATED:20260420T181231
DESCRIPTION:Looking for a place to feel grounded\, ask real questions\, and
  connect with others? We would love to have you join us this Sunday at St.
  George’s.\nEach week we gather to pray\, reflect\, and hear good news a
 bout Jesus Christ. His life\, love\, and invitation still speak to the hea
 rt of what it means to live well today. Whether you are returning to churc
 h or exploring for the first time\, there is a place for you here.\nThis s
 ummer we are in a series called The Rise and Fall of the Kings of Israel\,
  exploring the lives of Saul\, David\, and Solomon. These ancient stories 
 are full of failure\, fear\, and surprising grace. They remind us that eve
 n when we fall short\, God stays in the story.\nWe offer Junior Church dur
 ing the service for kids ages 2 to 10. It is a fun and welcoming time to l
 earn\, play\, and grow together.\nCome as you are and stay for coffee and 
 conversation after the service.\nWhat to Expect on Sundays:\n\nBulletins t
 o help you follow along\n\n\nThoughtful music and a sermon that connects t
 o real life\n\n\nChildren's ministry during the service for ages 0 to 9\n\
 n\nCoffee\, conversation\, and community after the service\n
LAST-MODIFIED:20260420T181231
LOCATION:St. George in the Pines Anglican Church
SUMMARY:Sunday Church
URL;VALUE=URI:https://www.stgeorgebanff.com/events/sunday-church--122/2026-
 08-16
ATTACH;FILENAME=sunday.jpg;FMTTYPE=image/jpeg:https://dq5pwpg1q8ru0.cloudfr
 ont.net/2025/08/06/16/19/01/2bf23bc5-bba5-45cc-b89e-44cca883f69a/sunday.jp
 g
END:VEVENT
END:VCALENDAR
